BEGIN:VCALENDAR
VERSION:2.0
PRODID:-//University Presbyterian Church - ECPv6.15.20//NONSGML v1.0//EN
CALSCALE:GREGORIAN
METHOD:PUBLISH
X-ORIGINAL-URL:https://www.upc.org
X-WR-CALDESC:Events for University Presbyterian Church
REFRESH-INTERVAL;VALUE=DURATION:PT1H
X-Robots-Tag:noindex
X-PUBLISHED-TTL:PT1H
BEGIN:VTIMEZONE
TZID:America/Los_Angeles
BEGIN:DAYLIGHT
TZOFFSETFROM:-0800
TZOFFSETTO:-0700
TZNAME:PDT
DTSTART:20250309T100000
END:DAYLIGHT
BEGIN:STANDARD
TZOFFSETFROM:-0700
TZOFFSETTO:-0800
TZNAME:PST
DTSTART:20251102T090000
END:STANDARD
BEGIN:DAYLIGHT
TZOFFSETFROM:-0800
TZOFFSETTO:-0700
TZNAME:PDT
DTSTART:20260308T100000
END:DAYLIGHT
BEGIN:STANDARD
TZOFFSETFROM:-0700
TZOFFSETTO:-0800
TZNAME:PST
DTSTART:20261101T090000
END:STANDARD
BEGIN:DAYLIGHT
TZOFFSETFROM:-0800
TZOFFSETTO:-0700
TZNAME:PDT
DTSTART:20270314T100000
END:DAYLIGHT
BEGIN:STANDARD
TZOFFSETFROM:-0700
TZOFFSETTO:-0800
TZNAME:PST
DTSTART:20271107T090000
END:STANDARD
END:VTIMEZONE
BEGIN:VEVENT
DTSTART;TZID=America/Los_Angeles:20260424T183000
DTEND;TZID=America/Los_Angeles:20260424T203000
DTSTAMP:20260423T073440
CREATED:20260420T210516Z
LAST-MODIFIED:20260420T210516Z
UID:10013157-1777055400-1777062600@www.upc.org
SUMMARY:High School Bowling
DESCRIPTION:9th – 12th Grade | UW Hub\nJoin us for an awesome evening of pizza and bowling at the UW Hub! It’s the perfect chance to unwind\, have friendly competition and have a blast. \nMeet us at The UW Hub and let the good times roll! \nRegister here \nQuestions? Contact Anna: annac@upc.org \n 
URL:https://www.upc.org/event/high-school-bowling-2026/
CATEGORIES:Kids,Youth
ATTACH;FMTTYPE=image/jpeg:https://www.upc.org/wp-content/uploads/2024/08/High-school-Bowling-NIght-2.jpg
ORGANIZER;CN="Youth Ministry":MAILTO:annac@upc.org, jillb@upc.org
END:VEVENT
BEGIN:VEVENT
DTSTART;TZID=America/Los_Angeles:20260506T183000
DTEND;TZID=America/Los_Angeles:20260506T200000
DTSTAMP:20260423T073440
CREATED:20260420T210508Z
LAST-MODIFIED:20260420T210508Z
UID:10009626-1778092200-1778097600@www.upc.org
SUMMARY:Middle School 1st & 3rd Wednesdays
DESCRIPTION:Join us for pizza\, games\, prayer\, and conversations about Jesus. \nRegistration is not required\, youth will check-in at the kiosks when they enter through the northwest doors!
URL:https://www.upc.org/event/middle-school-1st-3rd-wednesdays-2025-26/2026-05-06/
LOCATION:Larson Hall
CATEGORIES:Kids,Parent & Family,Youth
ATTACH;FMTTYPE=image/png:https://www.upc.org/wp-content/uploads/2024/08/middle-1.png
ORGANIZER;CN="Youth Ministry":MAILTO:annac@upc.org, jillb@upc.org
END:VEVENT
BEGIN:VEVENT
DTSTART;TZID=America/Los_Angeles:20260508T183000
DTEND;TZID=America/Los_Angeles:20260508T203000
DTSTAMP:20260423T073440
CREATED:20260420T180956Z
LAST-MODIFIED:20260421T222528Z
UID:10013175-1778265000-1778272200@www.upc.org
SUMMARY:Middle School Bowling
DESCRIPTION:Join us for an awesome evening of pizza and bowling at the UW Hub! It’s the perfect chance to unwind\, have friendly competition and have a blast.\nMeet us at The UW Hub and let the good times roll! \nRegister here\nQuestions? Contact Anna at annac@upc.org
URL:https://www.upc.org/event/middle-school-bowling-may-8-2026/
CATEGORIES:Youth
ATTACH;FMTTYPE=image/jpeg:https://www.upc.org/wp-content/uploads/2026/03/Middle-School-Bowling.jpg
ORGANIZER;CN="Youth Ministry":MAILTO:annac@upc.org, jillb@upc.org
END:VEVENT
BEGIN:VEVENT
DTSTART;TZID=America/Los_Angeles:20260513T183000
DTEND;TZID=America/Los_Angeles:20260513T200000
DTSTAMP:20260423T073440
CREATED:20260420T210507Z
LAST-MODIFIED:20260421T210305Z
UID:10013186-1778697000-1778702400@www.upc.org
SUMMARY:Middle School Small Groups
DESCRIPTION:All 6th–8th graders are invited to join us for Small Groups on the 2nd and 4th Wednesday of each month at UPC! We’ll hang out\, play games\, enjoy snacks\, and explore together what it means to follow Jesus. Students will meet in separate girls and boys groups to build deeper friendships and grow in faith alongside their peers. \nRegister here! 
URL:https://www.upc.org/event/middle-school-small-groups/2026-05-13/
CATEGORIES:Kids,Parent & Family,Youth
ATTACH;FMTTYPE=image/jpeg:https://www.upc.org/wp-content/uploads/2025/07/Middle-School-Small-Groups-Boys-Girls-.jpg
ORGANIZER;CN="Youth Ministry":MAILTO:annac@upc.org, jillb@upc.org
END:VEVENT
BEGIN:VEVENT
DTSTART;TZID=America/Los_Angeles:20260515T183000
DTEND;TZID=America/Los_Angeles:20260515T203000
DTSTAMP:20260423T073440
CREATED:20260420T210516Z
LAST-MODIFIED:20260420T210516Z
UID:10013178-1778869800-1778877000@www.upc.org
SUMMARY:High School May 2026 Meetup
DESCRIPTION:9th – 12th Grade\nJoin us at UPC’s Jefferson House (Anna’s Home) for food\, games\, and a great time of fellowship!\nAddress: 4715 16th Ave NE\, Seattle\, WA 98105 (Right by the church!) \nRegister Here \nQuestions? Contact Anna at annac@upc.org
URL:https://www.upc.org/event/high-school-may-2026-meetup/
CATEGORIES:Youth
ATTACH;FMTTYPE=image/png:https://www.upc.org/wp-content/uploads/2026/04/HS-March-2026-Meetup-1.png
ORGANIZER;CN="Youth Ministry":MAILTO:annac@upc.org, jillb@upc.org
END:VEVENT
BEGIN:VEVENT
DTSTART;TZID=America/Los_Angeles:20260520T183000
DTEND;TZID=America/Los_Angeles:20260520T200000
DTSTAMP:20260423T073440
CREATED:20260420T210508Z
LAST-MODIFIED:20260420T210508Z
UID:10009627-1779301800-1779307200@www.upc.org
SUMMARY:Middle School 1st & 3rd Wednesdays
DESCRIPTION:Join us for pizza\, games\, prayer\, and conversations about Jesus. \nRegistration is not required\, youth will check-in at the kiosks when they enter through the northwest doors!
URL:https://www.upc.org/event/middle-school-1st-3rd-wednesdays-2025-26/2026-05-20/
LOCATION:Larson Hall
CATEGORIES:Kids,Parent & Family,Youth
ATTACH;FMTTYPE=image/png:https://www.upc.org/wp-content/uploads/2024/08/middle-1.png
ORGANIZER;CN="Youth Ministry":MAILTO:annac@upc.org, jillb@upc.org
END:VEVENT
BEGIN:VEVENT
DTSTART;TZID=America/Los_Angeles:20260603T183000
DTEND;TZID=America/Los_Angeles:20260603T200000
DTSTAMP:20260423T073440
CREATED:20260420T210508Z
LAST-MODIFIED:20260420T210508Z
UID:10009628-1780511400-1780516800@www.upc.org
SUMMARY:Middle School 1st & 3rd Wednesdays
DESCRIPTION:Join us for pizza\, games\, prayer\, and conversations about Jesus. \nRegistration is not required\, youth will check-in at the kiosks when they enter through the northwest doors!
URL:https://www.upc.org/event/middle-school-1st-3rd-wednesdays-2025-26/2026-06-03/
LOCATION:Larson Hall
CATEGORIES:Kids,Parent & Family,Youth
ATTACH;FMTTYPE=image/png:https://www.upc.org/wp-content/uploads/2024/08/middle-1.png
ORGANIZER;CN="Youth Ministry":MAILTO:annac@upc.org, jillb@upc.org
END:VEVENT
END:VCALENDAR