BEGIN:VCALENDAR
VERSION:2.0
PRODID:-//University Presbyterian Church - ECPv6.15.20//NONSGML v1.0//EN
CALSCALE:GREGORIAN
METHOD:PUBLISH
X-ORIGINAL-URL:https://www.upc.org
X-WR-CALDESC:Events for University Presbyterian Church
REFRESH-INTERVAL;VALUE=DURATION:PT1H
X-Robots-Tag:noindex
X-PUBLISHED-TTL:PT1H
BEGIN:VTIMEZONE
TZID:America/Los_Angeles
BEGIN:DAYLIGHT
TZOFFSETFROM:-0800
TZOFFSETTO:-0700
TZNAME:PDT
DTSTART:20250309T100000
END:DAYLIGHT
BEGIN:STANDARD
TZOFFSETFROM:-0700
TZOFFSETTO:-0800
TZNAME:PST
DTSTART:20251102T090000
END:STANDARD
BEGIN:DAYLIGHT
TZOFFSETFROM:-0800
TZOFFSETTO:-0700
TZNAME:PDT
DTSTART:20260308T100000
END:DAYLIGHT
BEGIN:STANDARD
TZOFFSETFROM:-0700
TZOFFSETTO:-0800
TZNAME:PST
DTSTART:20261101T090000
END:STANDARD
BEGIN:DAYLIGHT
TZOFFSETFROM:-0800
TZOFFSETTO:-0700
TZNAME:PDT
DTSTART:20270314T100000
END:DAYLIGHT
BEGIN:STANDARD
TZOFFSETFROM:-0700
TZOFFSETTO:-0800
TZNAME:PST
DTSTART:20271107T090000
END:STANDARD
END:VTIMEZONE
BEGIN:VEVENT
DTSTART;TZID=America/Los_Angeles:20260423T093000
DTEND;TZID=America/Los_Angeles:20260423T113000
DTSTAMP:20260423T043511
CREATED:20260420T210505Z
LAST-MODIFIED:20260420T210505Z
UID:10012985-1776936600-1776943800@www.upc.org
SUMMARY:UPC Sewing Ministry
DESCRIPTION:Members create lap robes\, children’s quilts\, and other sewn items for care facilities outside of UPC and fulfill requests for needed items within the church body. Meetings are on the 2nd and 4th Thursdays of each month from September to June from 9:30 to 11:30am in room 380. New members are welcome and encouraged. Skill level is not an issue; experienced members can get you started and help along the way. \nFor more information\, email info@upc.org.
URL:https://www.upc.org/event/upc-sewing-ministry/2026-04-23/
LOCATION:Room 380
CATEGORIES:Adults
ATTACH;FMTTYPE=image/jpeg:https://www.upc.org/wp-content/uploads/2023/04/pina-messina-qQKv7r1BaRw-unsplash-scaled-e1682544644608.jpg
END:VEVENT
BEGIN:VEVENT
DTSTART;TZID=America/Los_Angeles:20260423T180000
DTEND;TZID=America/Los_Angeles:20260423T203000
DTSTAMP:20260423T043511
CREATED:20260420T210503Z
LAST-MODIFIED:20260420T210503Z
UID:10009047-1776967200-1776976200@www.upc.org
SUMMARY:Global Friends Sports Night
DESCRIPTION:Join us for a fun time playing sports together and building community. Bring your own racket for badminton and/or table tennis paddle to play if you have them. We will have some equipment available for you to use.
URL:https://www.upc.org/event/global-friends-sports-night/2026-04-23/
CATEGORIES:Internationals
ATTACH;FMTTYPE=image/png:https://www.upc.org/wp-content/uploads/2025/06/Global-Friends-app-16-x-9.png
ORGANIZER;CN="Global Friends":MAILTO:viviennel@upc.org
END:VEVENT
BEGIN:VEVENT
DTSTART;TZID=America/Los_Angeles:20260423T190000
DTEND;TZID=America/Los_Angeles:20260423T203000
DTSTAMP:20260423T043511
CREATED:20260420T210510Z
LAST-MODIFIED:20260420T210510Z
UID:10012907-1776970800-1776976200@www.upc.org
SUMMARY:IFH Dinners
DESCRIPTION:International students\, join us for Thursday night dinners! Dinners are free\, fun\, and a great way to get connected here in Seattle. No need to bring anything– just RSVP to Polly to join us! \nConnect with us on Instagram (@ifh.upc) for more events.
URL:https://www.upc.org/event/ifh-dinners-2/2026-04-23/
LOCATION:International Friendship House\, 4727 16th Ave NE\, Seattle\, WA\, 98105\, United States
CATEGORIES:Internationals
ATTACH;FMTTYPE=image/jpeg:https://www.upc.org/wp-content/uploads/2025/11/PXL_20251107_0326033152-scaled-e1762631047105.jpg
END:VEVENT
END:VCALENDAR