BEGIN:VCALENDAR
VERSION:2.0
PRODID:-//University Presbyterian Church - ECPv6.15.20//NONSGML v1.0//EN
CALSCALE:GREGORIAN
METHOD:PUBLISH
X-ORIGINAL-URL:https://www.upc.org
X-WR-CALDESC:Events for University Presbyterian Church
REFRESH-INTERVAL;VALUE=DURATION:PT1H
X-Robots-Tag:noindex
X-PUBLISHED-TTL:PT1H
BEGIN:VTIMEZONE
TZID:America/Los_Angeles
BEGIN:DAYLIGHT
TZOFFSETFROM:-0800
TZOFFSETTO:-0700
TZNAME:PDT
DTSTART:20250309T100000
END:DAYLIGHT
BEGIN:STANDARD
TZOFFSETFROM:-0700
TZOFFSETTO:-0800
TZNAME:PST
DTSTART:20251102T090000
END:STANDARD
BEGIN:DAYLIGHT
TZOFFSETFROM:-0800
TZOFFSETTO:-0700
TZNAME:PDT
DTSTART:20260308T100000
END:DAYLIGHT
BEGIN:STANDARD
TZOFFSETFROM:-0700
TZOFFSETTO:-0800
TZNAME:PST
DTSTART:20261101T090000
END:STANDARD
BEGIN:DAYLIGHT
TZOFFSETFROM:-0800
TZOFFSETTO:-0700
TZNAME:PDT
DTSTART:20270314T100000
END:DAYLIGHT
BEGIN:STANDARD
TZOFFSETFROM:-0700
TZOFFSETTO:-0800
TZNAME:PST
DTSTART:20271107T090000
END:STANDARD
END:VTIMEZONE
BEGIN:VEVENT
DTSTART;TZID=America/Los_Angeles:20260309T190000
DTEND;TZID=America/Los_Angeles:20260309T203000
DTSTAMP:20260423T020748
CREATED:20260420T210511Z
LAST-MODIFIED:20260420T210511Z
UID:10009787-1773082800-1773088200@www.upc.org
SUMMARY:Women's Evening Bible Study (WEBS)
DESCRIPTION:A gathering of women of all ages to study the Bible and experience a deeper community together. We meet online Monday evenings on Zoom from October through May\, 7:00 – 8:30 pm\, in consistent small groups to discuss God’s word\, share life experiences\, and pray for one another. In addition\, we meet in person four times during the year in Calvin Lounge at UPC. \nContact Cheryl Sackrider for more information. \nRegister on the find a group page.
URL:https://www.upc.org/event/womens-evening-bible-study-webs-2/2026-03-09/
LOCATION:Zoom
CATEGORIES:Adults,Class
ATTACH;FMTTYPE=image/jpeg:https://www.upc.org/wp-content/uploads/2025/06/281-1024.jpg
END:VEVENT
BEGIN:VEVENT
DTSTART;TZID=America/Los_Angeles:20260310T093000
DTEND;TZID=America/Los_Angeles:20260310T111500
DTSTAMP:20260423T020748
CREATED:20260420T210509Z
LAST-MODIFIED:20260420T210509Z
UID:10008369-1773135000-1773141300@www.upc.org
SUMMARY:Moms' Fellowship
DESCRIPTION:Open to all moms with kids of all ages! \nJoin us for connection\, coffee\, fellowship\, and a short teaching. Childcare is provided for ages 6 months to 5 years. Babies in arms are welcome. Sign up here. \nRegistration required (one time payment for the year). \n\n$50 for moms not needing childcare\n\nPlease note: Childcare is currently unavailable. Email Debbie Symons for future childcare availability. \nCan’t make Tuesday mornings? \nEmail Jill Brinkerhoff for info about our evening book group \n  \nhttps://upc.ccbchurch.com/goto/forms/101/responses/new
URL:https://www.upc.org/event/moms-fellowship-3/2026-03-10/
LOCATION:Geneva Hall\, 4540 15th Ave NE\, Seattle\, WA\, 98105\, United States
CATEGORIES:Kids,Parent & Family,Youth
ATTACH;FMTTYPE=image/png:https://www.upc.org/wp-content/uploads/2025/05/Moms-fellowship-16x9-2025.png
END:VEVENT
BEGIN:VEVENT
DTSTART;TZID=America/Los_Angeles:20260310T183000
DTEND;TZID=America/Los_Angeles:20260310T200000
DTSTAMP:20260423T020748
CREATED:20260420T210501Z
LAST-MODIFIED:20260420T210501Z
UID:10008711-1773167400-1773172800@www.upc.org
SUMMARY:Young Adults Prayer at Jack's House
DESCRIPTION:Meet at Jack’s House for fellowship at 6:30pm and pray from 7:00-8:00pm. Contact Allison for more information: allisonh.328@gmail.com \n 
URL:https://www.upc.org/event/young-adults-prayer-at-jacks-house-3/2026-03-10/
LOCATION:Jack’s House\, 740 NE 56th St\, Seattle\, WA\, 98105\, United States
CATEGORIES:Prayer,Young Adults
ATTACH;FMTTYPE=image/png:https://www.upc.org/wp-content/uploads/2024/10/Young-Adults-Prayer.png
ORGANIZER;CN="Young Adults":MAILTO:youngadults@upc.org
END:VEVENT
BEGIN:VEVENT
DTSTART;TZID=America/Los_Angeles:20260310T190000
DTEND;TZID=America/Los_Angeles:20260310T203000
DTSTAMP:20260423T020748
CREATED:20260420T210514Z
LAST-MODIFIED:20260420T210514Z
UID:10012747-1773169200-1773174600@www.upc.org
SUMMARY:The Bridge - Young Adults
DESCRIPTION:The Bridge is UPC’s young adult community (age 22-29). Join us for dinner\, worship & prayer\, a message\, and plenty of fellowship. Tuesday nights at 7 in the Palmer House! \nQuestions? Reach out to Polly.
URL:https://www.upc.org/event/the-bridge-young-adults-2-2/2026-03-10/
LOCATION:Palmer House\, 4705 16th Ave NE\, Seattle\, WA\, 98105
CATEGORIES:Young Adults
ATTACH;FMTTYPE=image/jpeg:https://www.upc.org/wp-content/uploads/2025/11/PXL_20260311_034451925-scaled-e1773205134304.jpg
ORGANIZER;CN="Young Adults":MAILTO:youngadults@upc.org
END:VEVENT
BEGIN:VEVENT
DTSTART;TZID=America/Los_Angeles:20260311T070000
DTEND;TZID=America/Los_Angeles:20260311T080000
DTSTAMP:20260423T020748
CREATED:20260420T210504Z
LAST-MODIFIED:20260420T210504Z
UID:10009342-1773212400-1773216000@www.upc.org
SUMMARY:Wednesday Prayer (Zoom) 7am
DESCRIPTION:Join us on Zoom every Wednesday morning at 7:00 am as we pray together for UPC. All are welcome! \nWednesday\, 7AM Zoom link \nQuestions? Send us an email: prayer@upc.org
URL:https://www.upc.org/event/wednesday-prayer-zoom/2026-03-11/
LOCATION:Zoom
CATEGORIES:Adults,Prayer
ATTACH;FMTTYPE=image/png:https://www.upc.org/wp-content/uploads/2025/07/open-hands.png
END:VEVENT
BEGIN:VEVENT
DTSTART;TZID=America/Los_Angeles:20260311T183000
DTEND;TZID=America/Los_Angeles:20260311T200000
DTSTAMP:20260423T020748
CREATED:20260420T210512Z
LAST-MODIFIED:20260421T211117Z
UID:10013188-1773253800-1773259200@www.upc.org
SUMMARY:Family Open Gym
DESCRIPTION:Families can join the Goldblooms at UPC for cornhole\, foosball and other games in room 280\, free play in the gym\, and snacks. This is not a drop-off event\, please stay with your kids and connect with other families. (Middle School small groups meet at the same time.)
URL:https://www.upc.org/event/family-open-gym-2/2026-03-11/
LOCATION:Larson Hall
CATEGORIES:Adults,Kids
ATTACH;FMTTYPE=image/png:https://www.upc.org/wp-content/uploads/2025/10/Family-Open-Gym.png
ORGANIZER;CN="UPC Kids":MAILTO:debbies@upc.org
END:VEVENT
BEGIN:VEVENT
DTSTART;TZID=America/Los_Angeles:20260311T183000
DTEND;TZID=America/Los_Angeles:20260311T200000
DTSTAMP:20260423T020748
CREATED:20260420T210514Z
LAST-MODIFIED:20260420T210514Z
UID:10013092-1773253800-1773259200@www.upc.org
SUMMARY:Middle School Small Groups
DESCRIPTION:All 6th–8th graders are invited to join us for Small Groups on the 2nd and 4th Wednesday of each month at UPC! We’ll hang out\, play games\, enjoy snacks\, and explore together what it means to follow Jesus. Students will meet in separate girls and boys groups to build deeper friendships and grow in faith alongside their peers. \nMarch 11: we meet offsite. Contact annac@upc.org for details. \nRegister here!
URL:https://www.upc.org/event/middle-school-small-groups-2/
LOCATION:WA
CATEGORIES:Kids,Parent & Family,Youth
ATTACH;FMTTYPE=image/jpeg:https://www.upc.org/wp-content/uploads/2025/07/Middle-School-Small-Groups-Boys-Girls-.jpg
ORGANIZER;CN="Youth Ministry":MAILTO:annac@upc.org, jillb@upc.org
END:VEVENT
BEGIN:VEVENT
DTSTART;TZID=America/Los_Angeles:20260311T190000
DTEND;TZID=America/Los_Angeles:20260311T203000
DTSTAMP:20260423T020748
CREATED:20260420T210514Z
LAST-MODIFIED:20260420T210514Z
UID:10013040-1773255600-1773261000@www.upc.org
SUMMARY:College Wednesdays
DESCRIPTION:Wednesday nights\, 7pm at Palmer House! Meet new friends\, enjoy free dinner and study the word with us! \nMarch 11: meet for bowling at the HUB! (contact Angela: 253-332-1997\, angelad@upc.org) \nQuestions? Email Arden.
URL:https://www.upc.org/event/college-wednesdays-2/
LOCATION:Palmer House\, 4705 16th Ave NE\, Seattle\, WA\, 98105
CATEGORIES:College Ministry
ATTACH;FMTTYPE=image/png:https://www.upc.org/wp-content/uploads/2025/11/Palmer-Slides.png
ORGANIZER;CN="UPC College Ministries":MAILTO:info@upc.org
END:VEVENT
BEGIN:VEVENT
DTSTART;TZID=America/Los_Angeles:20260312T093000
DTEND;TZID=America/Los_Angeles:20260312T113000
DTSTAMP:20260423T020748
CREATED:20260420T210505Z
LAST-MODIFIED:20260420T210505Z
UID:10012976-1773307800-1773315000@www.upc.org
SUMMARY:UPC Sewing Ministry
DESCRIPTION:Members create lap robes\, children’s quilts\, and other sewn items for care facilities outside of UPC and fulfill requests for needed items within the church body. Meetings are on the 2nd and 4th Thursdays of each month from September to June from 9:30 to 11:30am in room 380. New members are welcome and encouraged. Skill level is not an issue; experienced members can get you started and help along the way. \nFor more information\, email info@upc.org.
URL:https://www.upc.org/event/upc-sewing-ministry/2026-03-12/
LOCATION:Room 380
CATEGORIES:Adults
ATTACH;FMTTYPE=image/jpeg:https://www.upc.org/wp-content/uploads/2023/04/pina-messina-qQKv7r1BaRw-unsplash-scaled-e1682544644608.jpg
END:VEVENT
BEGIN:VEVENT
DTSTART;TZID=America/Los_Angeles:20260312T190000
DTEND;TZID=America/Los_Angeles:20260312T203000
DTSTAMP:20260423T020748
CREATED:20260420T210510Z
LAST-MODIFIED:20260420T210510Z
UID:10012901-1773342000-1773347400@www.upc.org
SUMMARY:IFH Dinners
DESCRIPTION:International students\, join us for Thursday night dinners! Dinners are free\, fun\, and a great way to get connected here in Seattle. No need to bring anything– just RSVP to Polly to join us! \nConnect with us on Instagram (@ifh.upc) for more events.
URL:https://www.upc.org/event/ifh-dinners-2/2026-03-12/
LOCATION:International Friendship House\, 4727 16th Ave NE\, Seattle\, WA\, 98105\, United States
CATEGORIES:Internationals
ATTACH;FMTTYPE=image/jpeg:https://www.upc.org/wp-content/uploads/2025/11/PXL_20251107_0326033152-scaled-e1762631047105.jpg
END:VEVENT
BEGIN:VEVENT
DTSTART;TZID=America/Los_Angeles:20260313T183000
DTEND;TZID=America/Los_Angeles:20260313T230000
DTSTAMP:20260423T020748
CREATED:20260420T180739Z
LAST-MODIFIED:20260420T230713Z
UID:10004067-1773426600-1773442800@www.upc.org
SUMMARY:UGM: Search & Rescue Van
DESCRIPTION:Be a Union Gospel Mission volunteer to serve others who live on the streets of the U-District. UPC Search & Rescue teams are led by experienced UGM staff who focus on the safety of the volunteers and sensitivity to those we serve. This is a one-of-a-kind\, potentially life-changing volunteer opportunity for you! The evening begins with orientation at 6:30PM and van participation until 11:00PM on the second Friday of the month. To carpool\, meet in the UPC North Parking lot at 6:00PM. \nFor ages 15+. \nSign-up required\, CLICK HERE and sign-up for “Search+Rescue -For University Presbyterian Church”\nor email Barb Williams at barbw@upc.org.
URL:https://www.upc.org/event/union-gospel-mission-search-rescue-van-2/2026-03-13/
LOCATION:WA
CATEGORIES:Adults,Serve Locally,Young Adults
ATTACH;FMTTYPE=image/png:https://www.upc.org/wp-content/uploads/2023/04/Search-and-Rescue-Van.png
ORGANIZER;CN="Local Missions":MAILTO:barbw@upc.org
END:VEVENT
BEGIN:VEVENT
DTSTART;TZID=America/Los_Angeles:20260314T080000
DTEND;TZID=America/Los_Angeles:20260314T190000
DTSTAMP:20260423T020748
CREATED:20260420T210514Z
LAST-MODIFIED:20260420T210514Z
UID:10013099-1773475200-1773514800@www.upc.org
SUMMARY:Middle School Retreat
DESCRIPTION:Join us for a day of exploration\, fellowship\, and fun! Middle Schoolers (6th – 8th Grade)\, will meet at UPC and take three cars (via a ferry ride) to the Goldbloom’s family cabin in Indianola WA. Snacks and a pizza dinner will be provided\, but please send youth with either spending money for the local store OR a sack lunch. We will play games\, spend time outdoors\, and do a devotional together. \nRegister here \nAdditional details: Meet at UPC’s north parking lot;\nDestination (via ferry): 8773 Northeast Seaview Avenue\, Indianola\, WA \nIf you have any questions\, email Anna.
URL:https://www.upc.org/event/middle-school-retreat/
LOCATION:WA
CATEGORIES:Parent & Family,Youth
ATTACH;FMTTYPE=image/jpeg:https://www.upc.org/wp-content/uploads/2026/01/Middle-School-Retreat-Day-2026-2.jpg
ORGANIZER;CN="Youth Ministry":MAILTO:annac@upc.org, jillb@upc.org
END:VEVENT
BEGIN:VEVENT
DTSTART;TZID=America/Los_Angeles:20260315T094500
DTEND;TZID=America/Los_Angeles:20260315T103000
DTSTAMP:20260423T020748
CREATED:20260420T210509Z
LAST-MODIFIED:20260420T210509Z
UID:10012874-1773567900-1773570600@www.upc.org
SUMMARY:Book of Genesis
DESCRIPTION:Join us for an in-depth study on the book of Genesis\, taught by Pete Anderson and Ed Sterner\, at 9:45 in 270C and on Zoom. Register here \nZoom link \n 
URL:https://www.upc.org/event/book-of-genesis/2026-03-15/
LOCATION:Room 270
CATEGORIES:Adults,Class
ATTACH;FMTTYPE=image/png:https://www.upc.org/wp-content/uploads/2025/09/Book-of-Genesis-Study.png
END:VEVENT
BEGIN:VEVENT
DTSTART;TZID=America/Los_Angeles:20260315T094500
DTEND;TZID=America/Los_Angeles:20260315T103000
DTSTAMP:20260423T020748
CREATED:20260420T210513Z
LAST-MODIFIED:20260420T210513Z
UID:10013125-1773567900-1773570600@www.upc.org
SUMMARY:Confirmation
DESCRIPTION:8th-12th Grade Confirmation\nConfirmation is a milestone at UPC! This class covers the basics of the Gospel\, gives youth a chance to hear faith stories of staff and pastors\, ask questions\, engage with one another\, receive a new student Bible\, and think through and write out their own faith stories. At the end of the classes\, youth will decide if they want to be confirmed on March 29 which means joining UPC as a member\, and to be baptized if they have not been before. \nMarch 1\, 9:00 – 9:45am (Due to one all-church worship service this day) \nMarch 8\, 15\, 22\, 9:45 – 10:30AM  \n*Please only Register if you can attend all classes or only miss up to one session* \nQuestions? Contact Jill at jillb@upc.org \n 
URL:https://www.upc.org/event/confirmation-2/2026-03-15/
LOCATION:Room 390
CATEGORIES:Class,Kids,Parent & Family,Youth
ATTACH;FMTTYPE=image/png:https://www.upc.org/wp-content/uploads/2026/02/confirmation.png
ORGANIZER;CN="Youth Ministry":MAILTO:annac@upc.org, jillb@upc.org
END:VEVENT
BEGIN:VEVENT
DTSTART;TZID=America/Los_Angeles:20260315T094500
DTEND;TZID=America/Los_Angeles:20260315T103000
DTSTAMP:20260423T020748
CREATED:20260420T210513Z
LAST-MODIFIED:20260420T210513Z
UID:10013129-1773567900-1773570600@www.upc.org
SUMMARY:UPC Kids' Choir
DESCRIPTION:Calling young voices to join us this spring! \nKids in Kindergarten-5th grade are invited to participate in UPC Kids’ Choir at 9:45 on Sundays in March. We will sing\, enjoy fun activities and more! Kids will prepare to sing during the March 29th Palm Sunday Services. \nChoir meeting dates: March 1\, 8\, 15\, 22\, 29.\nNote: March 1st rehearsal time will be 9:30-9:55am due to the one all church worship service that morning. \nRegister here!
URL:https://www.upc.org/event/upc-kids-choir-2/2026-03-15/
LOCATION:Room 315
CATEGORIES:Kids,Youth
ATTACH;FMTTYPE=image/jpeg:https://www.upc.org/wp-content/uploads/2026/02/Kids-Choir.jpg
ORGANIZER;CN="UPC Kids":MAILTO:debbies@upc.org
END:VEVENT
BEGIN:VEVENT
DTSTART;TZID=America/Los_Angeles:20260315T094500
DTEND;TZID=America/Los_Angeles:20260315T130000
DTSTAMP:20260423T020748
CREATED:20260420T210515Z
LAST-MODIFIED:20260420T210515Z
UID:10013171-1773567900-1773579600@www.upc.org
SUMMARY:Douglas McFalls Presents on ADEA
DESCRIPTION:Douglas McFalls will share how ADEA’s holistic approach\, forming character\, building competence\, and nurturing confidence and compassion\, is opening new doors for marginalized young people who have long been overlooked. You’ll hear real stories\, see vivid images\, and discover how spiritual formation\, education\, and practical training are restoring dignity and possibility. Come learn how ADEA’s approach to youth development in rural Kenya is transforming lives and restoring hope. \n\nTwo identical sessions: 9:45–10:30 a.m. and 12:15–1:00 p.m.\nZoom link: https://us06web.zoom.us/j/89898164677?pwd=5ZiY375SbLrUMlHUidX6YwmMngZVqz.1\n(Meeting ID: 898 9816 4677; Passcode: 391569)\n\nParking at UPC
URL:https://www.upc.org/event/douglas-mcfalls-presents-on-adea/
LOCATION:Calvin Lounge\, 4540 15th Ave NE\, Seattle\, WA\, 98105\, United States
CATEGORIES:Global Missions
ATTACH;FMTTYPE=image/png:https://www.upc.org/wp-content/uploads/2026/03/douglas-mcfalls-event.png
END:VEVENT
BEGIN:VEVENT
DTSTART;TZID=America/Los_Angeles:20260315T120000
DTEND;TZID=America/Los_Angeles:20260315T133000
DTSTAMP:20260423T020748
CREATED:20260420T210507Z
LAST-MODIFIED:20260420T210507Z
UID:10012793-1773576000-1773581400@www.upc.org
SUMMARY:Sunday Brunch | College Students & Young Adults
DESCRIPTION:College Students and Young Adults (18-20’s) – join us for Sunday brunch at Palmer House after the 10:45 service! Enjoy free food\, coffee and fellowship! \n 
URL:https://www.upc.org/event/sunday-brunch-college-students-young-adults-2/2026-03-15/
LOCATION:Palmer House\, 4705 16th Ave NE\, Seattle\, WA\, 98105
CATEGORIES:College Ministry,Young Adults
ATTACH;FMTTYPE=image/png:https://www.upc.org/wp-content/uploads/2024/09/College-Ministry-Updates-4.png
ORGANIZER;CN="Young Adults":MAILTO:youngadults@upc.org
END:VEVENT
BEGIN:VEVENT
DTSTART;TZID=America/Los_Angeles:20260316T190000
DTEND;TZID=America/Los_Angeles:20260316T203000
DTSTAMP:20260423T020748
CREATED:20260420T210511Z
LAST-MODIFIED:20260420T210511Z
UID:10009788-1773687600-1773693000@www.upc.org
SUMMARY:Women's Evening Bible Study (WEBS)
DESCRIPTION:A gathering of women of all ages to study the Bible and experience a deeper community together. We meet online Monday evenings on Zoom from October through May\, 7:00 – 8:30 pm\, in consistent small groups to discuss God’s word\, share life experiences\, and pray for one another. In addition\, we meet in person four times during the year in Calvin Lounge at UPC. \nContact Cheryl Sackrider for more information. \nRegister on the find a group page.
URL:https://www.upc.org/event/womens-evening-bible-study-webs-2/2026-03-16/
LOCATION:Zoom
CATEGORIES:Adults,Class
ATTACH;FMTTYPE=image/jpeg:https://www.upc.org/wp-content/uploads/2025/06/281-1024.jpg
END:VEVENT
BEGIN:VEVENT
DTSTART;TZID=America/Los_Angeles:20260317T093000
DTEND;TZID=America/Los_Angeles:20260317T111500
DTSTAMP:20260423T020748
CREATED:20260420T210509Z
LAST-MODIFIED:20260420T210509Z
UID:10008370-1773739800-1773746100@www.upc.org
SUMMARY:Moms' Fellowship
DESCRIPTION:Open to all moms with kids of all ages! \nJoin us for connection\, coffee\, fellowship\, and a short teaching. Childcare is provided for ages 6 months to 5 years. Babies in arms are welcome. Sign up here. \nRegistration required (one time payment for the year). \n\n$50 for moms not needing childcare\n\nPlease note: Childcare is currently unavailable. Email Debbie Symons for future childcare availability. \nCan’t make Tuesday mornings? \nEmail Jill Brinkerhoff for info about our evening book group \n  \nhttps://upc.ccbchurch.com/goto/forms/101/responses/new
URL:https://www.upc.org/event/moms-fellowship-3/2026-03-17/
LOCATION:Geneva Hall\, 4540 15th Ave NE\, Seattle\, WA\, 98105\, United States
CATEGORIES:Kids,Parent & Family,Youth
ATTACH;FMTTYPE=image/png:https://www.upc.org/wp-content/uploads/2025/05/Moms-fellowship-16x9-2025.png
END:VEVENT
BEGIN:VEVENT
DTSTART;TZID=America/Los_Angeles:20260317T183000
DTEND;TZID=America/Los_Angeles:20260317T200000
DTSTAMP:20260423T020748
CREATED:20260420T210501Z
LAST-MODIFIED:20260420T210501Z
UID:10008712-1773772200-1773777600@www.upc.org
SUMMARY:Young Adults Prayer at Jack's House
DESCRIPTION:Meet at Jack’s House for fellowship at 6:30pm and pray from 7:00-8:00pm. Contact Allison for more information: allisonh.328@gmail.com \n 
URL:https://www.upc.org/event/young-adults-prayer-at-jacks-house-3/2026-03-17/
LOCATION:Jack’s House\, 740 NE 56th St\, Seattle\, WA\, 98105\, United States
CATEGORIES:Prayer,Young Adults
ATTACH;FMTTYPE=image/png:https://www.upc.org/wp-content/uploads/2024/10/Young-Adults-Prayer.png
ORGANIZER;CN="Young Adults":MAILTO:youngadults@upc.org
END:VEVENT
BEGIN:VEVENT
DTSTART;TZID=America/Los_Angeles:20260317T190000
DTEND;TZID=America/Los_Angeles:20260317T203000
DTSTAMP:20260423T020748
CREATED:20260420T210514Z
LAST-MODIFIED:20260420T210514Z
UID:10013182-1773774000-1773779400@www.upc.org
SUMMARY:The Bridge - Young Adults
DESCRIPTION:The Bridge is UPC’s young adult community (age 22-29). Join us for dinner\, worship & prayer\, a message\, and plenty of fellowship. Tuesday nights at 7 in the Palmer House! \nQuestions? Reach out to Polly.
URL:https://www.upc.org/event/the-bridge-young-adults-2-2/2026-03-17/
LOCATION:Palmer House\, 4705 16th Ave NE\, Seattle\, WA\, 98105
CATEGORIES:Young Adults
ATTACH;FMTTYPE=image/jpeg:https://www.upc.org/wp-content/uploads/2025/11/PXL_20260311_034451925-scaled-e1773205134304.jpg
ORGANIZER;CN="Young Adults":MAILTO:youngadults@upc.org
END:VEVENT
BEGIN:VEVENT
DTSTART;TZID=America/Los_Angeles:20260318T070000
DTEND;TZID=America/Los_Angeles:20260318T080000
DTSTAMP:20260423T020748
CREATED:20260420T210504Z
LAST-MODIFIED:20260420T210504Z
UID:10009343-1773817200-1773820800@www.upc.org
SUMMARY:Wednesday Prayer (Zoom) 7am
DESCRIPTION:Join us on Zoom every Wednesday morning at 7:00 am as we pray together for UPC. All are welcome! \nWednesday\, 7AM Zoom link \nQuestions? Send us an email: prayer@upc.org
URL:https://www.upc.org/event/wednesday-prayer-zoom/2026-03-18/
LOCATION:Zoom
CATEGORIES:Adults,Prayer
ATTACH;FMTTYPE=image/png:https://www.upc.org/wp-content/uploads/2025/07/open-hands.png
END:VEVENT
BEGIN:VEVENT
DTSTART;TZID=America/Los_Angeles:20260318T183000
DTEND;TZID=America/Los_Angeles:20260318T200000
DTSTAMP:20260423T020748
CREATED:20260420T210508Z
LAST-MODIFIED:20260420T210508Z
UID:10009436-1773858600-1773864000@www.upc.org
SUMMARY:3rd - 5th Grade Wednesdays
DESCRIPTION:Join us on the first and third Wednesdays of each month for pizza\, fun\, games\, activities and a dive into God’s Good News. Invite your friends! \nRegistration is not required. Like Sunday mornings\, kids will check-in at the kiosks when they arrive. \nQuestions? Email Debbie 
URL:https://www.upc.org/event/3rd-5th-grade-wednesdays-2/2026-03-18/
LOCATION:Larson Hall
CATEGORIES:Kids,Parent & Family
ATTACH;FMTTYPE=image/png:https://www.upc.org/wp-content/uploads/2025/08/3rd-5th-GRade-Wednesdays.png
ORGANIZER;CN="UPC Kids":MAILTO:debbies@upc.org
END:VEVENT
BEGIN:VEVENT
DTSTART;TZID=America/Los_Angeles:20260318T183000
DTEND;TZID=America/Los_Angeles:20260318T200000
DTSTAMP:20260423T020748
CREATED:20260420T210508Z
LAST-MODIFIED:20260420T210508Z
UID:10009624-1773858600-1773864000@www.upc.org
SUMMARY:Middle School 1st & 3rd Wednesdays
DESCRIPTION:Join us for pizza\, games\, prayer\, and conversations about Jesus. \nRegistration is not required\, youth will check-in at the kiosks when they enter through the northwest doors!
URL:https://www.upc.org/event/middle-school-1st-3rd-wednesdays-2025-26/2026-03-18/
LOCATION:Larson Hall
CATEGORIES:Kids,Parent & Family,Youth
ATTACH;FMTTYPE=image/png:https://www.upc.org/wp-content/uploads/2024/08/middle-1.png
ORGANIZER;CN="Youth Ministry":MAILTO:annac@upc.org, jillb@upc.org
END:VEVENT
BEGIN:VEVENT
DTSTART;TZID=America/Los_Angeles:20260318T183000
DTEND;TZID=America/Los_Angeles:20260318T200000
DTSTAMP:20260423T020748
CREATED:20260420T210513Z
LAST-MODIFIED:20260420T210513Z
UID:10013107-1773858600-1773864000@www.upc.org
SUMMARY:Intentional Parenting Group
DESCRIPTION:This group meets 6 times on the first and third Wednesdays at UPC while 3rd-8th graders have programming. They will be going through Intentional Parenting: 10 Ways to Be an Exceptional Parent in a Quick Fix World workbook by Doug & Cathy Fields that has videos that go along with it. This should spark some good conversation and self-evaluation! If you sign up\, Jill will buy you a workbook and provide pizza for dinner at each meeting! Please do your best to prioritize this group\, but we understand if you need to miss a meeting. \nSign up here
URL:https://www.upc.org/event/intentional-parenting-group/2026-03-18/
LOCATION:Library\, 4540 15th Ave NE\, Seattle\, WA\, 98105\, United States
CATEGORIES:Adults,Kids,Parent & Family
ATTACH;FMTTYPE=image/jpeg:https://www.upc.org/wp-content/uploads/2026/01/Parent-Resources-2.jpg
ORGANIZER;CN="UPC Kids":MAILTO:debbies@upc.org
END:VEVENT
BEGIN:VEVENT
DTSTART;TZID=America/Los_Angeles:20260320T183000
DTEND;TZID=America/Los_Angeles:20260320T203000
DTSTAMP:20260423T020748
CREATED:20260420T210515Z
LAST-MODIFIED:20260420T210515Z
UID:10013132-1774031400-1774038600@www.upc.org
SUMMARY:High School Meetup
DESCRIPTION:Join us at the Mitchells’ house for food\, games\, and a great time of fellowship! Register here for the address. \nQuestions? Contact Anna at annac@upc.org \n 
URL:https://www.upc.org/event/high-school-meetup-march-2026/
LOCATION:WA
CATEGORIES:Youth
ATTACH;FMTTYPE=image/png:https://www.upc.org/wp-content/uploads/2026/02/HS-March-2026-Meetup.png
ORGANIZER;CN="Youth Ministry":MAILTO:annac@upc.org, jillb@upc.org
END:VEVENT
BEGIN:VEVENT
DTSTART;TZID=America/Los_Angeles:20260321T100000
DTEND;TZID=America/Los_Angeles:20260321T110000
DTSTAMP:20260423T020748
CREATED:20260420T210515Z
LAST-MODIFIED:20260420T210515Z
UID:10013174-1774087200-1774090800@www.upc.org
SUMMARY:Cherry Blossom Walk
DESCRIPTION:Cherry Blossom Festival Walk! \nAnnual walk to the UW Cherry Blossom Festival: \n\nWhere: Meet at UPC’s front doors\nWhen: 10am on Saturday\, March 21\nYou may also meet us on campus if you are not able to meet at 10am\n\nContact: Anna
URL:https://www.upc.org/event/cherry-blossom-walk/
LOCATION:University Presbyterian Church\, 4540 15th Ave NE\, Seattle\, WA\, 98105\, United States
CATEGORIES:Adults,Internationals
ATTACH;FMTTYPE=image/jpeg:https://www.upc.org/wp-content/uploads/2026/03/cherry-blossoms-e1773940869581.jpg
ORGANIZER;CN="Global Friends":MAILTO:viviennel@upc.org
END:VEVENT
BEGIN:VEVENT
DTSTART;TZID=America/Los_Angeles:20260322T080000
DTEND;TZID=America/Los_Angeles:20260322T123000
DTSTAMP:20260423T020748
CREATED:20260420T210515Z
LAST-MODIFIED:20260420T210515Z
UID:10013169-1774166400-1774182600@www.upc.org
SUMMARY:Spring Cleaning Drive
DESCRIPTION:We are collecting spring cleaning supplies for our neighbors at Arbora Court\, a low-income housing unit one block north of UPC. After supplies are collected\, we will take them to Arbora Court and have a “spring cleaning” lunch for the families. Drop off donations on Sunday March 22 or 29 in the red barrels in the church lobby. \nList of needed items: \n\nNew cloth towels\nSponges\nAll-purpose cleaner\nDish soap\nGlass cleaner\nToilet paper\nSmall bucket\nRubber gloves\nPaper towels\nClothes soap\nToilet brush\nGarbage bags\nScrub brush\nDisinfecting spray\nToilet bowl cleaner\nDisinfecting wipes\nBleach\n\n 
URL:https://www.upc.org/event/spring-cleaning-drive-2/2026-03-22/
LOCATION:WA
CATEGORIES:Serve Locally
ATTACH;FMTTYPE=image/png:https://www.upc.org/wp-content/uploads/2026/03/Cleaning-Service.png
END:VEVENT
BEGIN:VEVENT
DTSTART;TZID=America/Los_Angeles:20260322T094500
DTEND;TZID=America/Los_Angeles:20260322T103000
DTSTAMP:20260423T020748
CREATED:20260420T210513Z
LAST-MODIFIED:20260420T210513Z
UID:10013126-1774172700-1774175400@www.upc.org
SUMMARY:Confirmation
DESCRIPTION:8th-12th Grade Confirmation\nConfirmation is a milestone at UPC! This class covers the basics of the Gospel\, gives youth a chance to hear faith stories of staff and pastors\, ask questions\, engage with one another\, receive a new student Bible\, and think through and write out their own faith stories. At the end of the classes\, youth will decide if they want to be confirmed on March 29 which means joining UPC as a member\, and to be baptized if they have not been before. \nMarch 1\, 9:00 – 9:45am (Due to one all-church worship service this day) \nMarch 8\, 15\, 22\, 9:45 – 10:30AM  \n*Please only Register if you can attend all classes or only miss up to one session* \nQuestions? Contact Jill at jillb@upc.org \n 
URL:https://www.upc.org/event/confirmation-2/2026-03-22/
LOCATION:Room 390
CATEGORIES:Class,Kids,Parent & Family,Youth
ATTACH;FMTTYPE=image/png:https://www.upc.org/wp-content/uploads/2026/02/confirmation.png
ORGANIZER;CN="Youth Ministry":MAILTO:annac@upc.org, jillb@upc.org
END:VEVENT
BEGIN:VEVENT
DTSTART;TZID=America/Los_Angeles:20260322T094500
DTEND;TZID=America/Los_Angeles:20260322T103000
DTSTAMP:20260423T020748
CREATED:20260420T210513Z
LAST-MODIFIED:20260420T210513Z
UID:10013130-1774172700-1774175400@www.upc.org
SUMMARY:UPC Kids' Choir
DESCRIPTION:Calling young voices to join us this spring! \nKids in Kindergarten-5th grade are invited to participate in UPC Kids’ Choir at 9:45 on Sundays in March. We will sing\, enjoy fun activities and more! Kids will prepare to sing during the March 29th Palm Sunday Services. \nChoir meeting dates: March 1\, 8\, 15\, 22\, 29.\nNote: March 1st rehearsal time will be 9:30-9:55am due to the one all church worship service that morning. \nRegister here!
URL:https://www.upc.org/event/upc-kids-choir-2/2026-03-22/
LOCATION:Room 315
CATEGORIES:Kids,Youth
ATTACH;FMTTYPE=image/jpeg:https://www.upc.org/wp-content/uploads/2026/02/Kids-Choir.jpg
ORGANIZER;CN="UPC Kids":MAILTO:debbies@upc.org
END:VEVENT
END:VCALENDAR