BEGIN:VCALENDAR
VERSION:2.0
PRODID:-//University Presbyterian Church - ECPv6.15.20//NONSGML v1.0//EN
CALSCALE:GREGORIAN
METHOD:PUBLISH
X-ORIGINAL-URL:https://www.upc.org
X-WR-CALDESC:Events for University Presbyterian Church
REFRESH-INTERVAL;VALUE=DURATION:PT1H
X-Robots-Tag:noindex
X-PUBLISHED-TTL:PT1H
BEGIN:VTIMEZONE
TZID:America/Los_Angeles
BEGIN:DAYLIGHT
TZOFFSETFROM:-0800
TZOFFSETTO:-0700
TZNAME:PDT
DTSTART:20250309T100000
END:DAYLIGHT
BEGIN:STANDARD
TZOFFSETFROM:-0700
TZOFFSETTO:-0800
TZNAME:PST
DTSTART:20251102T090000
END:STANDARD
BEGIN:DAYLIGHT
TZOFFSETFROM:-0800
TZOFFSETTO:-0700
TZNAME:PDT
DTSTART:20260308T100000
END:DAYLIGHT
BEGIN:STANDARD
TZOFFSETFROM:-0700
TZOFFSETTO:-0800
TZNAME:PST
DTSTART:20261101T090000
END:STANDARD
BEGIN:DAYLIGHT
TZOFFSETFROM:-0800
TZOFFSETTO:-0700
TZNAME:PDT
DTSTART:20270314T100000
END:DAYLIGHT
BEGIN:STANDARD
TZOFFSETFROM:-0700
TZOFFSETTO:-0800
TZNAME:PST
DTSTART:20271107T090000
END:STANDARD
END:VTIMEZONE
BEGIN:VEVENT
DTSTART;TZID=America/Los_Angeles:20260531T094500
DTEND;TZID=America/Los_Angeles:20260531T103000
DTSTAMP:20260423T090300
CREATED:20260420T210509Z
LAST-MODIFIED:20260420T210509Z
UID:10013143-1780220700-1780223400@www.upc.org
SUMMARY:Book of Genesis
DESCRIPTION:Join us for an in-depth study on the book of Genesis\, taught by Pete Anderson and Ed Sterner\, at 9:45 in 270C and on Zoom. Register here \nZoom link \n 
URL:https://www.upc.org/event/book-of-genesis/2026-05-31/
LOCATION:Room 270
CATEGORIES:Adults,Class
ATTACH;FMTTYPE=image/png:https://www.upc.org/wp-content/uploads/2025/09/Book-of-Genesis-Study.png
END:VEVENT
BEGIN:VEVENT
DTSTART;TZID=America/Los_Angeles:20260607T094500
DTEND;TZID=America/Los_Angeles:20260607T103000
DTSTAMP:20260423T090300
CREATED:20260420T210509Z
LAST-MODIFIED:20260420T210509Z
UID:10013144-1780825500-1780828200@www.upc.org
SUMMARY:Book of Genesis
DESCRIPTION:Join us for an in-depth study on the book of Genesis\, taught by Pete Anderson and Ed Sterner\, at 9:45 in 270C and on Zoom. Register here \nZoom link \n 
URL:https://www.upc.org/event/book-of-genesis/2026-06-07/
LOCATION:Room 270
CATEGORIES:Adults,Class
ATTACH;FMTTYPE=image/png:https://www.upc.org/wp-content/uploads/2025/09/Book-of-Genesis-Study.png
END:VEVENT
BEGIN:VEVENT
DTSTART;TZID=America/Los_Angeles:20260614T094500
DTEND;TZID=America/Los_Angeles:20260614T103000
DTSTAMP:20260423T090300
CREATED:20260420T210509Z
LAST-MODIFIED:20260420T210509Z
UID:10013145-1781430300-1781433000@www.upc.org
SUMMARY:Book of Genesis
DESCRIPTION:Join us for an in-depth study on the book of Genesis\, taught by Pete Anderson and Ed Sterner\, at 9:45 in 270C and on Zoom. Register here \nZoom link \n 
URL:https://www.upc.org/event/book-of-genesis/2026-06-14/
LOCATION:Room 270
CATEGORIES:Adults,Class
ATTACH;FMTTYPE=image/png:https://www.upc.org/wp-content/uploads/2025/09/Book-of-Genesis-Study.png
END:VEVENT
BEGIN:VEVENT
DTSTART;TZID=America/Los_Angeles:20260621T094500
DTEND;TZID=America/Los_Angeles:20260621T103000
DTSTAMP:20260423T090300
CREATED:20260420T210509Z
LAST-MODIFIED:20260420T210509Z
UID:10013146-1782035100-1782037800@www.upc.org
SUMMARY:Book of Genesis
DESCRIPTION:Join us for an in-depth study on the book of Genesis\, taught by Pete Anderson and Ed Sterner\, at 9:45 in 270C and on Zoom. Register here \nZoom link \n 
URL:https://www.upc.org/event/book-of-genesis/2026-06-21/
LOCATION:Room 270
CATEGORIES:Adults,Class
ATTACH;FMTTYPE=image/png:https://www.upc.org/wp-content/uploads/2025/09/Book-of-Genesis-Study.png
END:VEVENT
END:VCALENDAR