BEGIN:VCALENDAR
VERSION:2.0
PRODID:-//University Presbyterian Church - ECPv6.15.20//NONSGML v1.0//EN
CALSCALE:GREGORIAN
METHOD:PUBLISH
X-WR-CALNAME:University Presbyterian Church
X-ORIGINAL-URL:https://www.upc.org
X-WR-CALDESC:Events for University Presbyterian Church
REFRESH-INTERVAL;VALUE=DURATION:PT1H
X-Robots-Tag:noindex
X-PUBLISHED-TTL:PT1H
BEGIN:VTIMEZONE
TZID:America/Los_Angeles
BEGIN:DAYLIGHT
TZOFFSETFROM:-0800
TZOFFSETTO:-0700
TZNAME:PDT
DTSTART:20240310T100000
END:DAYLIGHT
BEGIN:STANDARD
TZOFFSETFROM:-0700
TZOFFSETTO:-0800
TZNAME:PST
DTSTART:20241103T090000
END:STANDARD
BEGIN:DAYLIGHT
TZOFFSETFROM:-0800
TZOFFSETTO:-0700
TZNAME:PDT
DTSTART:20250309T100000
END:DAYLIGHT
BEGIN:STANDARD
TZOFFSETFROM:-0700
TZOFFSETTO:-0800
TZNAME:PST
DTSTART:20251102T090000
END:STANDARD
BEGIN:DAYLIGHT
TZOFFSETFROM:-0800
TZOFFSETTO:-0700
TZNAME:PDT
DTSTART:20260308T100000
END:DAYLIGHT
BEGIN:STANDARD
TZOFFSETFROM:-0700
TZOFFSETTO:-0800
TZNAME:PST
DTSTART:20261101T090000
END:STANDARD
END:VTIMEZONE
BEGIN:VEVENT
DTSTART;TZID=America/Los_Angeles:20251108T190000
DTEND;TZID=America/Los_Angeles:20251108T210000
DTSTAMP:20260425T071403
CREATED:20260420T210509Z
LAST-MODIFIED:20260420T210509Z
UID:10012999-1762628400-1762635600@www.upc.org
SUMMARY:The Throne\, the Lamb & the Dragon
DESCRIPTION:Join us for an evening lecture delivered by Dr. Paul Spilsbury: “The Throne\, the Lamb & the Dragon: The Urgent Message of the Book of Revelation for Today.” This will be followed by a reception with time to chat with Paul and other friends of Regent. This is a public event\, so please invite a friend! \nAbout the Lecture\nHave you ever felt confused or frightened by the Book of Revelation? Have you ever wished you had a better handle on how to read this most enigmatic of books? In this lecture\, Paul Spilsbury will provide tools to help you understand and to lean into Revelation’s powerful message for today’s world. \nRegister here
URL:https://www.upc.org/event/the-throne-the-lamb-the-dragon/
LOCATION:Calvin Lounge\, 4540 15th Ave NE\, Seattle\, WA\, 98105\, United States
CATEGORIES:Adults,Class
ATTACH;FMTTYPE=image/jpeg:https://www.upc.org/wp-content/uploads/2025/10/Paul-Spilsbury-Revelation-banner-1-scaled.jpg
END:VEVENT
BEGIN:VEVENT
DTSTART;TZID=America/Los_Angeles:20251005T123000
DTEND;TZID=America/Los_Angeles:20251005T140000
DTSTAMP:20260425T071403
CREATED:20260420T210508Z
LAST-MODIFIED:20260420T210508Z
UID:10012810-1759667400-1759672800@www.upc.org
SUMMARY:UPC New Member Class
DESCRIPTION:Learn more about UPC; our beliefs\, values\, how we function as a church and what it means to be a member. Upon completion of the class\, you have the opportunity to become a member during a worship service! Classes meet in the UPC Library. You must attend both Oct 5 and Oct 12. \nDates:  \nWeek 1: Oct 5\, 2025\, 12:30-2:00pm \nWeek 2: Oct 12\, 2025\, 12:30-2:00pm \nElder Conversation: Oct 19\, 2025 \nJoining Day: Oct 26\, 2025 \nSign up here
URL:https://www.upc.org/event/upc-new-member-class-4/
LOCATION:Library\, 4540 15th Ave NE\, Seattle\, WA\, 98105\, United States
CATEGORIES:Adults,Class
ATTACH;FMTTYPE=image/png:https://www.upc.org/wp-content/uploads/2025/09/UPC-NEW-MEMBER-CLASS.png
END:VEVENT
BEGIN:VEVENT
DTSTART;TZID=America/Los_Angeles:20250608T094500
DTEND;TZID=America/Los_Angeles:20250608T103000
DTSTAMP:20260425T071403
CREATED:20260420T210501Z
LAST-MODIFIED:20260420T210501Z
UID:10008397-1749375900-1749378600@www.upc.org
SUMMARY:Word on Sunday Micah
DESCRIPTION:Option 2: 12:10 pm – 1:00 pm\nOption 3: 7:30 pm – 8:30 pm\nJoin us as we explore the text of Micah (literally “Who is like God?). This book contains some of the most well-known texts in the Old Testament. A collection of “doom” and “hope” oracles that predicted Jesus’ birth in Bethlehem and offer the promise of world peace. Sundays\, May 4 – June 22. Taught by Pete Andersen. Light snacks provided. \nOption 1: 9:45 – 10:30am in Larson 270C\, and on Zoom \nOption 2: 12:10pm – 1:00pm in Calvin\, and on Zoom \nOption 3: 7:30pm – 8:30pm on Zoom \nREGISTER
URL:https://www.upc.org/event/word-on-sunday-2025-spring-4-2-2/
CATEGORIES:Adults,Class
ATTACH;FMTTYPE=image/png:https://www.upc.org/wp-content/uploads/2025/04/Copy-of-WOS-Micah.png
END:VEVENT
BEGIN:VEVENT
DTSTART;TZID=America/Los_Angeles:20250601T094500
DTEND;TZID=America/Los_Angeles:20250601T103000
DTSTAMP:20260425T071403
CREATED:20260420T210459Z
LAST-MODIFIED:20260420T210459Z
UID:10008396-1748771100-1748773800@www.upc.org
SUMMARY:Word on Sunday Micah
DESCRIPTION:Option 2: 12:10 pm – 1:00 pm\nOption 3: 7:30 pm – 8:30 pm\nJoin us as we explore the text of Micah (literally “Who is like God?). This book contains some of the most well-known texts in the Old Testament. A collection of “doom” and “hope” oracles that predicted Jesus’ birth in Bethlehem and offer the promise of world peace. Sundays\, May 4 – June 22. Taught by Pete Andersen. Light snacks provided. \nOption 1: 9:45 – 10:30am in Larson 270C\, and on Zoom \nOption 2: 12:10pm – 1:00pm in Calvin\, and on Zoom \nOption 3: 7:30pm – 8:30pm on Zoom \nREGISTER
URL:https://www.upc.org/event/word-on-sunday-2025-spring-4-2/2025-06-01/
CATEGORIES:Adults,Class
ATTACH;FMTTYPE=image/png:https://www.upc.org/wp-content/uploads/2025/04/Copy-of-WOS-Micah.png
END:VEVENT
BEGIN:VEVENT
DTSTART;TZID=America/Los_Angeles:20250518T094500
DTEND;TZID=America/Los_Angeles:20250518T103000
DTSTAMP:20260425T071403
CREATED:20260420T210459Z
LAST-MODIFIED:20260420T210459Z
UID:10008243-1747561500-1747564200@www.upc.org
SUMMARY:Word on Sunday Micah
DESCRIPTION:Option 2: 12:10 pm – 1:00 pm\nOption 3: 7:30 pm – 8:30 pm\nJoin us as we explore the text of Micah (literally “Who is like God?). This book contains some of the most well-known texts in the Old Testament. A collection of “doom” and “hope” oracles that predicted Jesus’ birth in Bethlehem and offer the promise of world peace. Sundays\, May 4 – June 22. Taught by Pete Andersen. Light snacks provided. \nOption 1: 9:45 – 10:30am in Larson 270C\, and on Zoom \nOption 2: 12:10pm – 1:00pm in Calvin\, and on Zoom \nOption 3: 7:30pm – 8:30pm on Zoom \nREGISTER
URL:https://www.upc.org/event/word-on-sunday-2025-spring-4-2/2025-05-18/
CATEGORIES:Adults,Class
ATTACH;FMTTYPE=image/png:https://www.upc.org/wp-content/uploads/2025/04/Copy-of-WOS-Micah.png
END:VEVENT
BEGIN:VEVENT
DTSTART;TZID=America/Los_Angeles:20250511T094500
DTEND;TZID=America/Los_Angeles:20250511T103000
DTSTAMP:20260425T071403
CREATED:20260420T210459Z
LAST-MODIFIED:20260420T210459Z
UID:10008395-1746956700-1746959400@www.upc.org
SUMMARY:Word on Sunday Micah
DESCRIPTION:Option 2: 12:10 pm – 1:00 pm\nOption 3: 7:30 pm – 8:30 pm\nJoin us as we explore the text of Micah (literally “Who is like God?). This book contains some of the most well-known texts in the Old Testament. A collection of “doom” and “hope” oracles that predicted Jesus’ birth in Bethlehem and offer the promise of world peace. Sundays\, May 4 – June 22. Taught by Pete Andersen. Light snacks provided. \nOption 1: 9:45 – 10:30am in Larson 270C\, and on Zoom \nOption 2: 12:10pm – 1:00pm in Calvin\, and on Zoom \nOption 3: 7:30pm – 8:30pm on Zoom \nREGISTER
URL:https://www.upc.org/event/word-on-sunday-2025-spring-4/2025-05-11/
CATEGORIES:Adults,Class
ATTACH;FMTTYPE=image/png:https://www.upc.org/wp-content/uploads/2025/04/Copy-of-WOS-Micah.png
END:VEVENT
BEGIN:VEVENT
DTSTART;TZID=America/Los_Angeles:20250504T143000
DTEND;TZID=America/Los_Angeles:20250504T170000
DTSTAMP:20260425T071403
CREATED:20260420T210500Z
LAST-MODIFIED:20260420T210500Z
UID:10008301-1746369000-1746378000@www.upc.org
SUMMARY:Emotionally Healthy Spirituality
DESCRIPTION:You’ve likely heard Pastor George mention the impact this program has had on several of our staff and leaders. We’ll begin an 8-week course on Emotionally Healthy Spirituality on Sundays\,  May 4 – July 20 (does not meet Mother’s Day\, Memorial Day weekend\, or Father’s Day)\, 2:30-5:00pm\, at UPC. Cost is $40 for books. \nRegister:\nhttps://upc.ccbchurch.com/goto/forms/130/responses/new \nFind out more about EHS courses here.
URL:https://www.upc.org/event/emotionally-healthy-spirituality-3/
LOCATION:Geneva Hall\, 4540 15th Ave NE\, Seattle\, WA\, 98105\, United States
CATEGORIES:Adults,Class
ATTACH;FMTTYPE=image/png:https://www.upc.org/wp-content/uploads/2025/04/EHS2.png
END:VEVENT
BEGIN:VEVENT
DTSTART;TZID=America/Los_Angeles:20250504T094500
DTEND;TZID=America/Los_Angeles:20250504T103000
DTSTAMP:20260425T071403
CREATED:20260420T210459Z
LAST-MODIFIED:20260420T210459Z
UID:10008394-1746351900-1746354600@www.upc.org
SUMMARY:Word on Sunday Micah
DESCRIPTION:Option 2: 12:10 pm – 1:00 pm\nOption 3: 7:30 pm – 8:30 pm\nJoin us as we explore the text of Micah (literally “Who is like God?). This book contains some of the most well-known texts in the Old Testament. A collection of “doom” and “hope” oracles that predicted Jesus’ birth in Bethlehem and offer the promise of world peace. Sundays\, May 4 – June 22. Taught by Pete Andersen. Light snacks provided. \nOption 1: 9:45 – 10:30am in Larson 270C\, and on Zoom \nOption 2: 12:10pm – 1:00pm in Calvin\, and on Zoom \nOption 3: 7:30pm – 8:30pm on Zoom \nREGISTER
URL:https://www.upc.org/event/word-on-sunday-2025-spring-4/2025-05-04/
CATEGORIES:Adults,Class
ATTACH;FMTTYPE=image/png:https://www.upc.org/wp-content/uploads/2025/04/Copy-of-WOS-Micah.png
END:VEVENT
BEGIN:VEVENT
DTSTART;TZID=America/Los_Angeles:20250216T094500
DTEND;TZID=America/Los_Angeles:20250216T111500
DTSTAMP:20260425T071403
CREATED:20260420T210454Z
LAST-MODIFIED:20260420T210454Z
UID:10007175-1739699100-1739704500@www.upc.org
SUMMARY:Reframe: Explore how the Gospel reframes all of life
DESCRIPTION:Reframe: Enter into the big story of Scripture and explore how the gospel reframes all of life. \nAs part of our discipleship efforts at UPC\, we invite you to join the ReFrame course! Dive deeper into scripture with this 10-week session (2/9/25-4/13/25). This course is produced by Regent College and includes video teaching and an opportunity for small group discussion. It’s great for anyone who has gone through Immerse or wants to take the next step in their Bible journey. Reframe begins Sunday\, Feb 9th 9:45 – 11:15am) in 270C\, or on Zoom. Register here. \nClass dates: February 9 – April 13\, 2025 \nZoom option for Reframe: \nhttps://us02web.zoom.us/j/82665206767 \n\n 
URL:https://www.upc.org/event/reframe-explore-how-the-gospel-reframes-all-of-life-2025-4-2/
LOCATION:Room 270
CATEGORIES:Adults,Class
ATTACH;FMTTYPE=image/png:https://www.upc.org/wp-content/uploads/2025/01/cropped-Screenshot-2024-04-10-111640.png
END:VEVENT
BEGIN:VEVENT
DTSTART;TZID=America/Los_Angeles:20250212T180000
DTEND;TZID=America/Los_Angeles:20250212T193000
DTSTAMP:20260425T071403
CREATED:20260420T210455Z
LAST-MODIFIED:20260420T210455Z
UID:10006906-1739383200-1739388600@www.upc.org
SUMMARY:Alpha | Dinner & Discussion
DESCRIPTION:An invitation to discuss Faith and Christianity for those wrestling with hard questions. This is an open welcoming space for anyone who is doubting or struggling with belief. Wednesday nights\, 6pm\, Feb 12-April 16\, dinner provided. Register here. \nWe will meet at UPC in Geneva.
URL:https://www.upc.org/event/alpha-dinner-discussion/2025-02-12/
LOCATION:Geneva Hall\, 4540 15th Ave NE\, Seattle\, WA\, 98105\, United States
CATEGORIES:Class,College Ministry,Young Adults
ATTACH;FMTTYPE=image/png:https://www.upc.org/wp-content/uploads/2024/12/Alpha_AtTheTable_Slide.png
END:VEVENT
BEGIN:VEVENT
DTSTART;TZID=America/Los_Angeles:20250209T120000
DTEND;TZID=America/Los_Angeles:20250209T140000
DTSTAMP:20260425T071403
CREATED:20260420T210454Z
LAST-MODIFIED:20260420T210454Z
UID:10007172-1739102400-1739109600@www.upc.org
SUMMARY:Reconciliation in Israel-Palestine
DESCRIPTION:Join scholar\, author\, and the founder and Senior Consultant of Musalaha Vision of Reconciliation\, Dr. Salim Munayer to hear hopeful perspectives on the Israel-Palestinian conflict and how the church is uniquely called to be a beacon of hope and peace in this challenging time. Beloved former Global Missions Pastor\, Rev. Dr. Tim Dearborn\, will co-host. Light refreshments will be provided. \n12:00pm\, in Calvin Lounge
URL:https://www.upc.org/event/reconciliation-in-israel-palestine/
LOCATION:Calvin Lounge\, 4540 15th Ave NE\, Seattle\, WA\, 98105\, United States
CATEGORIES:Class,Global Missions
ATTACH;FMTTYPE=image/png:https://www.upc.org/wp-content/uploads/2025/01/Copy-of-v2-Discipling-Refugees-in-Europe-1.png
END:VEVENT
BEGIN:VEVENT
DTSTART;TZID=America/Los_Angeles:20250209T094500
DTEND;TZID=America/Los_Angeles:20250209T111500
DTSTAMP:20260425T071403
CREATED:20260420T210454Z
LAST-MODIFIED:20260420T210454Z
UID:10007174-1739094300-1739099700@www.upc.org
SUMMARY:Reframe: Explore how the Gospel reframes all of life
DESCRIPTION:Reframe: Enter into the big story of Scripture and explore how the gospel reframes all of life. \nAs part of our discipleship efforts at UPC\, we invite you to join the ReFrame course! Dive deeper into scripture with this 10-week session (2/9/25-4/13/25). This course is produced by Regent College and includes video teaching and an opportunity for small group discussion. It’s great for anyone who has gone through Immerse or wants to take the next step in their Bible journey. Reframe begins Sunday\, Feb 9th 9:45 – 11:15am) in 270C\, or on Zoom. Register here. \nClass dates: February 9 – April 13\, 2025 \nZoom option for Reframe: \nhttps://us02web.zoom.us/j/82665206767 \n\n 
URL:https://www.upc.org/event/reframe-explore-how-the-gospel-reframes-all-of-life-2025-2/
LOCATION:Room 270
CATEGORIES:Adults,Class
ATTACH;FMTTYPE=image/png:https://www.upc.org/wp-content/uploads/2025/01/cropped-Screenshot-2024-04-10-111640.png
END:VEVENT
END:VCALENDAR