BEGIN:VCALENDAR
VERSION:2.0
PRODID:-//University Presbyterian Church - ECPv6.15.20//NONSGML v1.0//EN
CALSCALE:GREGORIAN
METHOD:PUBLISH
X-ORIGINAL-URL:https://www.upc.org
X-WR-CALDESC:Events for University Presbyterian Church
REFRESH-INTERVAL;VALUE=DURATION:PT1H
X-Robots-Tag:noindex
X-PUBLISHED-TTL:PT1H
BEGIN:VTIMEZONE
TZID:America/Los_Angeles
BEGIN:DAYLIGHT
TZOFFSETFROM:-0800
TZOFFSETTO:-0700
TZNAME:PDT
DTSTART:20250309T100000
END:DAYLIGHT
BEGIN:STANDARD
TZOFFSETFROM:-0700
TZOFFSETTO:-0800
TZNAME:PST
DTSTART:20251102T090000
END:STANDARD
BEGIN:DAYLIGHT
TZOFFSETFROM:-0800
TZOFFSETTO:-0700
TZNAME:PDT
DTSTART:20260308T100000
END:DAYLIGHT
BEGIN:STANDARD
TZOFFSETFROM:-0700
TZOFFSETTO:-0800
TZNAME:PST
DTSTART:20261101T090000
END:STANDARD
BEGIN:DAYLIGHT
TZOFFSETFROM:-0800
TZOFFSETTO:-0700
TZNAME:PDT
DTSTART:20270314T100000
END:DAYLIGHT
BEGIN:STANDARD
TZOFFSETFROM:-0700
TZOFFSETTO:-0800
TZNAME:PST
DTSTART:20271107T090000
END:STANDARD
END:VTIMEZONE
BEGIN:VEVENT
DTSTART;TZID=America/Los_Angeles:20260426T094500
DTEND;TZID=America/Los_Angeles:20260426T103000
DTSTAMP:20260423T103439
CREATED:20260420T210509Z
LAST-MODIFIED:20260420T210509Z
UID:10013138-1777196700-1777199400@www.upc.org
SUMMARY:Book of Genesis
DESCRIPTION:Join us for an in-depth study on the book of Genesis\, taught by Pete Anderson and Ed Sterner\, at 9:45 in 270C and on Zoom. Register here \nZoom link \n 
URL:https://www.upc.org/event/book-of-genesis/2026-04-26/
LOCATION:Room 270
CATEGORIES:Adults,Class
ATTACH;FMTTYPE=image/png:https://www.upc.org/wp-content/uploads/2025/09/Book-of-Genesis-Study.png
END:VEVENT
BEGIN:VEVENT
DTSTART;TZID=America/Los_Angeles:20260427T190000
DTEND;TZID=America/Los_Angeles:20260427T203000
DTSTAMP:20260423T103439
CREATED:20260420T210511Z
LAST-MODIFIED:20260420T210511Z
UID:10009794-1777316400-1777321800@www.upc.org
SUMMARY:Women's Evening Bible Study (WEBS)
DESCRIPTION:A gathering of women of all ages to study the Bible and experience a deeper community together. We meet online Monday evenings on Zoom from October through May\, 7:00 – 8:30 pm\, in consistent small groups to discuss God’s word\, share life experiences\, and pray for one another. In addition\, we meet in person four times during the year in Calvin Lounge at UPC. \nContact Cheryl Sackrider for more information. \nRegister on the find a group page.
URL:https://www.upc.org/event/womens-evening-bible-study-webs-2/2026-04-27/
LOCATION:Zoom
CATEGORIES:Adults,Class
ATTACH;FMTTYPE=image/jpeg:https://www.upc.org/wp-content/uploads/2025/06/281-1024.jpg
END:VEVENT
BEGIN:VEVENT
DTSTART;TZID=America/Los_Angeles:20260503T094500
DTEND;TZID=America/Los_Angeles:20260503T103000
DTSTAMP:20260423T103439
CREATED:20260420T210509Z
LAST-MODIFIED:20260420T210509Z
UID:10013139-1777801500-1777804200@www.upc.org
SUMMARY:Book of Genesis
DESCRIPTION:Join us for an in-depth study on the book of Genesis\, taught by Pete Anderson and Ed Sterner\, at 9:45 in 270C and on Zoom. Register here \nZoom link \n 
URL:https://www.upc.org/event/book-of-genesis/2026-05-03/
LOCATION:Room 270
CATEGORIES:Adults,Class
ATTACH;FMTTYPE=image/png:https://www.upc.org/wp-content/uploads/2025/09/Book-of-Genesis-Study.png
END:VEVENT
BEGIN:VEVENT
DTSTART;TZID=America/Los_Angeles:20260503T140000
DTEND;TZID=America/Los_Angeles:20260503T160000
DTSTAMP:20260423T103439
CREATED:20260420T210511Z
LAST-MODIFIED:20260420T210511Z
UID:10009795-1777816800-1777824000@www.upc.org
SUMMARY:Women's Evening Bible Study (WEBS)
DESCRIPTION:A gathering of women of all ages to study the Bible and experience a deeper community together. We meet online Monday evenings on Zoom from October through May\, 7:00 – 8:30 pm\, in consistent small groups to discuss God’s word\, share life experiences\, and pray for one another. In addition\, we meet in person four times during the year in Calvin Lounge at UPC. \nContact Cheryl Sackrider for more information. \nRegister on the find a group page.
URL:https://www.upc.org/event/womens-evening-bible-study-webs-2/2026-05-03/
LOCATION:Zoom
CATEGORIES:Adults,Class
ATTACH;FMTTYPE=image/jpeg:https://www.upc.org/wp-content/uploads/2025/06/281-1024.jpg
END:VEVENT
BEGIN:VEVENT
DTSTART;TZID=America/Los_Angeles:20260510T094500
DTEND;TZID=America/Los_Angeles:20260510T103000
DTSTAMP:20260423T103439
CREATED:20260420T210509Z
LAST-MODIFIED:20260420T210509Z
UID:10013140-1778406300-1778409000@www.upc.org
SUMMARY:Book of Genesis
DESCRIPTION:Join us for an in-depth study on the book of Genesis\, taught by Pete Anderson and Ed Sterner\, at 9:45 in 270C and on Zoom. Register here \nZoom link \n 
URL:https://www.upc.org/event/book-of-genesis/2026-05-10/
LOCATION:Room 270
CATEGORIES:Adults,Class
ATTACH;FMTTYPE=image/png:https://www.upc.org/wp-content/uploads/2025/09/Book-of-Genesis-Study.png
END:VEVENT
BEGIN:VEVENT
DTSTART;TZID=America/Los_Angeles:20260517T094500
DTEND;TZID=America/Los_Angeles:20260517T103000
DTSTAMP:20260423T103439
CREATED:20260420T210509Z
LAST-MODIFIED:20260420T210509Z
UID:10013141-1779011100-1779013800@www.upc.org
SUMMARY:Book of Genesis
DESCRIPTION:Join us for an in-depth study on the book of Genesis\, taught by Pete Anderson and Ed Sterner\, at 9:45 in 270C and on Zoom. Register here \nZoom link \n 
URL:https://www.upc.org/event/book-of-genesis/2026-05-17/
LOCATION:Room 270
CATEGORIES:Adults,Class
ATTACH;FMTTYPE=image/png:https://www.upc.org/wp-content/uploads/2025/09/Book-of-Genesis-Study.png
END:VEVENT
BEGIN:VEVENT
DTSTART;TZID=America/Los_Angeles:20260524T094500
DTEND;TZID=America/Los_Angeles:20260524T103000
DTSTAMP:20260423T103439
CREATED:20260420T210509Z
LAST-MODIFIED:20260420T210509Z
UID:10013142-1779615900-1779618600@www.upc.org
SUMMARY:Book of Genesis
DESCRIPTION:Join us for an in-depth study on the book of Genesis\, taught by Pete Anderson and Ed Sterner\, at 9:45 in 270C and on Zoom. Register here \nZoom link \n 
URL:https://www.upc.org/event/book-of-genesis/2026-05-24/
LOCATION:Room 270
CATEGORIES:Adults,Class
ATTACH;FMTTYPE=image/png:https://www.upc.org/wp-content/uploads/2025/09/Book-of-Genesis-Study.png
END:VEVENT
BEGIN:VEVENT
DTSTART;TZID=America/Los_Angeles:20260531T094500
DTEND;TZID=America/Los_Angeles:20260531T103000
DTSTAMP:20260423T103439
CREATED:20260420T210509Z
LAST-MODIFIED:20260420T210509Z
UID:10013143-1780220700-1780223400@www.upc.org
SUMMARY:Book of Genesis
DESCRIPTION:Join us for an in-depth study on the book of Genesis\, taught by Pete Anderson and Ed Sterner\, at 9:45 in 270C and on Zoom. Register here \nZoom link \n 
URL:https://www.upc.org/event/book-of-genesis/2026-05-31/
LOCATION:Room 270
CATEGORIES:Adults,Class
ATTACH;FMTTYPE=image/png:https://www.upc.org/wp-content/uploads/2025/09/Book-of-Genesis-Study.png
END:VEVENT
BEGIN:VEVENT
DTSTART;TZID=America/Los_Angeles:20260607T094500
DTEND;TZID=America/Los_Angeles:20260607T103000
DTSTAMP:20260423T103439
CREATED:20260420T210509Z
LAST-MODIFIED:20260420T210509Z
UID:10013144-1780825500-1780828200@www.upc.org
SUMMARY:Book of Genesis
DESCRIPTION:Join us for an in-depth study on the book of Genesis\, taught by Pete Anderson and Ed Sterner\, at 9:45 in 270C and on Zoom. Register here \nZoom link \n 
URL:https://www.upc.org/event/book-of-genesis/2026-06-07/
LOCATION:Room 270
CATEGORIES:Adults,Class
ATTACH;FMTTYPE=image/png:https://www.upc.org/wp-content/uploads/2025/09/Book-of-Genesis-Study.png
END:VEVENT
BEGIN:VEVENT
DTSTART;TZID=America/Los_Angeles:20260614T094500
DTEND;TZID=America/Los_Angeles:20260614T103000
DTSTAMP:20260423T103439
CREATED:20260420T210509Z
LAST-MODIFIED:20260420T210509Z
UID:10013145-1781430300-1781433000@www.upc.org
SUMMARY:Book of Genesis
DESCRIPTION:Join us for an in-depth study on the book of Genesis\, taught by Pete Anderson and Ed Sterner\, at 9:45 in 270C and on Zoom. Register here \nZoom link \n 
URL:https://www.upc.org/event/book-of-genesis/2026-06-14/
LOCATION:Room 270
CATEGORIES:Adults,Class
ATTACH;FMTTYPE=image/png:https://www.upc.org/wp-content/uploads/2025/09/Book-of-Genesis-Study.png
END:VEVENT
BEGIN:VEVENT
DTSTART;TZID=America/Los_Angeles:20260621T094500
DTEND;TZID=America/Los_Angeles:20260621T103000
DTSTAMP:20260423T103439
CREATED:20260420T210509Z
LAST-MODIFIED:20260420T210509Z
UID:10013146-1782035100-1782037800@www.upc.org
SUMMARY:Book of Genesis
DESCRIPTION:Join us for an in-depth study on the book of Genesis\, taught by Pete Anderson and Ed Sterner\, at 9:45 in 270C and on Zoom. Register here \nZoom link \n 
URL:https://www.upc.org/event/book-of-genesis/2026-06-21/
LOCATION:Room 270
CATEGORIES:Adults,Class
ATTACH;FMTTYPE=image/png:https://www.upc.org/wp-content/uploads/2025/09/Book-of-Genesis-Study.png
END:VEVENT
END:VCALENDAR