BEGIN:VCALENDAR
VERSION:2.0
PRODID:-//University Presbyterian Church - ECPv6.15.20//NONSGML v1.0//EN
CALSCALE:GREGORIAN
METHOD:PUBLISH
X-ORIGINAL-URL:https://www.upc.org
X-WR-CALDESC:Events for University Presbyterian Church
REFRESH-INTERVAL;VALUE=DURATION:PT1H
X-Robots-Tag:noindex
X-PUBLISHED-TTL:PT1H
BEGIN:VTIMEZONE
TZID:America/Los_Angeles
BEGIN:DAYLIGHT
TZOFFSETFROM:-0800
TZOFFSETTO:-0700
TZNAME:PDT
DTSTART:20250309T100000
END:DAYLIGHT
BEGIN:STANDARD
TZOFFSETFROM:-0700
TZOFFSETTO:-0800
TZNAME:PST
DTSTART:20251102T090000
END:STANDARD
BEGIN:DAYLIGHT
TZOFFSETFROM:-0800
TZOFFSETTO:-0700
TZNAME:PDT
DTSTART:20260308T100000
END:DAYLIGHT
BEGIN:STANDARD
TZOFFSETFROM:-0700
TZOFFSETTO:-0800
TZNAME:PST
DTSTART:20261101T090000
END:STANDARD
BEGIN:DAYLIGHT
TZOFFSETFROM:-0800
TZOFFSETTO:-0700
TZNAME:PDT
DTSTART:20270314T100000
END:DAYLIGHT
BEGIN:STANDARD
TZOFFSETFROM:-0700
TZOFFSETTO:-0800
TZNAME:PST
DTSTART:20271107T090000
END:STANDARD
END:VTIMEZONE
BEGIN:VEVENT
DTSTART;TZID=America/Los_Angeles:20260404T150000
DTEND;TZID=America/Los_Angeles:20260404T180000
DTSTAMP:20260423T102707
CREATED:20260420T210514Z
LAST-MODIFIED:20260420T210514Z
UID:10013173-1775314800-1775325600@www.upc.org
SUMMARY:Global Friends Easter Party
DESCRIPTION:Easter Potluck\, Games\, and Egg Hunt! \nEveryone is invited to join us for our annual Easter party! We will have food\, games\, a skit\, and traditional Easter egg hunt for kids! Come enjoy time with friends! \nWhen: 4/4 at 3-6pm\nWhere: Calvin Presbyterian Church\, 18826 3rd Ave NW\, Shoreline\, WA 98177\nBring: Warm clothes\, good shoes in case it rains\, 1 basket/ child for Easter egg hunt\, and some food to share.\nContact: Nancy
URL:https://www.upc.org/event/global-friends-easter-party/
CATEGORIES:Internationals
ATTACH;FMTTYPE=image/png:https://www.upc.org/wp-content/uploads/2026/03/Global-Friends-Easter-party--e1774026431336.png
ORGANIZER;CN="Global Friends":MAILTO:viviennel@upc.org
END:VEVENT
END:VCALENDAR