BEGIN:VCALENDAR
VERSION:2.0
PRODID:-//University Presbyterian Church - ECPv6.15.20//NONSGML v1.0//EN
CALSCALE:GREGORIAN
METHOD:PUBLISH
X-WR-CALNAME:University Presbyterian Church
X-ORIGINAL-URL:https://www.upc.org
X-WR-CALDESC:Events for University Presbyterian Church
REFRESH-INTERVAL;VALUE=DURATION:PT1H
X-Robots-Tag:noindex
X-PUBLISHED-TTL:PT1H
BEGIN:VTIMEZONE
TZID:America/Los_Angeles
BEGIN:DAYLIGHT
TZOFFSETFROM:-0800
TZOFFSETTO:-0700
TZNAME:PDT
DTSTART:20240310T100000
END:DAYLIGHT
BEGIN:STANDARD
TZOFFSETFROM:-0700
TZOFFSETTO:-0800
TZNAME:PST
DTSTART:20241103T090000
END:STANDARD
BEGIN:DAYLIGHT
TZOFFSETFROM:-0800
TZOFFSETTO:-0700
TZNAME:PDT
DTSTART:20250309T100000
END:DAYLIGHT
BEGIN:STANDARD
TZOFFSETFROM:-0700
TZOFFSETTO:-0800
TZNAME:PST
DTSTART:20251102T090000
END:STANDARD
BEGIN:DAYLIGHT
TZOFFSETFROM:-0800
TZOFFSETTO:-0700
TZNAME:PDT
DTSTART:20260308T100000
END:DAYLIGHT
BEGIN:STANDARD
TZOFFSETFROM:-0700
TZOFFSETTO:-0800
TZNAME:PST
DTSTART:20261101T090000
END:STANDARD
BEGIN:DAYLIGHT
TZOFFSETFROM:-0800
TZOFFSETTO:-0700
TZNAME:PDT
DTSTART:20270314T100000
END:DAYLIGHT
BEGIN:STANDARD
TZOFFSETFROM:-0700
TZOFFSETTO:-0800
TZNAME:PST
DTSTART:20271107T090000
END:STANDARD
END:VTIMEZONE
BEGIN:VEVENT
DTSTART;TZID=America/Los_Angeles:20251109T070000
DTEND;TZID=America/Los_Angeles:20260302T130000
DTSTAMP:20260421T115928
CREATED:20260420T210509Z
LAST-MODIFIED:20260420T210509Z
UID:10013051-1762671600-1772456400@www.upc.org
SUMMARY:Donate to U-District Food Bank
DESCRIPTION:During this difficult season\, we are stepping up our partnership with the U-District Food Bank. \nFor years\, supporting the U-District Food Bank has been a meaningful part of our outreach rhythm\, a tangible way we live out our calling to love and serve. But right now\, the need is greater than ever. Over the next few weeks\, we’re collecting more than our usual amount of non-perishable food items\, along with these much-needed essentials: \n\nDiapers (especially larger sizes) & wipes\nBaby formula & baby food\nPet food\nToilet paper\nBar soap\nToothpaste\nDish soap\nMenstrual products (pads and tampons only)\n\nBring donations to the red barrels at UPC entrances on Sundays in November. Every item you give helps someone in our community feel seen\, cared for\, and remembered. \nThank you\, UPC family\, for loving and serving our neighbors!
URL:https://www.upc.org/event/donate-to-u-district-food-bank/
LOCATION:University Presbyterian Church\, 4540 15th Ave NE\, Seattle\, WA\, 98105\, United States
CATEGORIES:Serve Locally
ATTACH;FMTTYPE=image/png:https://www.upc.org/wp-content/uploads/2025/11/food-drive-1.png
ORGANIZER;CN="Local Missions":MAILTO:barbw@upc.org
END:VEVENT
BEGIN:VEVENT
DTSTART;TZID=America/Los_Angeles:20260110T070000
DTEND;TZID=America/Los_Angeles:20260309T210000
DTSTAMP:20260421T115928
CREATED:20260420T210511Z
LAST-MODIFIED:20260420T210511Z
UID:10013086-1768028400-1773090000@www.upc.org
SUMMARY:Recommend an Elder or Deacon
DESCRIPTION:Do you know a UPC member who may be called to serve as an Elder or Deacon? Elders\, together with UPC’s installed pastors\, prayerfully discern God’s direction and provide spiritual leadership and governance for the congregation. Deacons provide compassion\, care\, witness\, prayer\, and service for a variety of needs within our church family. \nElder role description\n…congregations should elect persons of wisdom and maturity of faith\, having demonstrated skills in leadership and being compassionate in spirit. Ruling elders\, together with teaching elders\, exercise leadership\, government\, spiritual discernment\, and discipline and have responsibilities for the life of a congregation as well as the whole church…\nBook of Order: G-2.0301 \nDeacon role description\nThe ministry of deacon as set forth in Scripture is one of compassion\, witness\, and service\, sharing in the redeeming love of Jesus Christ for the poor\, the hungry\, the sick\, the lost\, the friendless\, the oppressed\, those burdened by unjust policies or structures\, or anyone in distress. Persons of spiritual character\, honest repute\, exemplary lives\, brotherly and sisterly love\, sincere compassion\, and sound judgment should be chosen for this ministry.\nBook of Order: G-2.0201 \nSubmit your recommendation
URL:https://www.upc.org/event/2026-recommend-elder-deacon/
ATTACH;FMTTYPE=image/png:https://www.upc.org/wp-content/uploads/2026/01/Recommend-elders-deacons.png
END:VEVENT
BEGIN:VEVENT
DTSTART;TZID=America/Los_Angeles:20260111T000000
DTEND;TZID=America/Los_Angeles:20260125T000000
DTSTAMP:20260421T115928
CREATED:20260420T210511Z
LAST-MODIFIED:20260420T210511Z
UID:10013113-1768089600-1769299200@www.upc.org
SUMMARY:Lead a Connect Group
DESCRIPTION:Thank you for your interest in leading a Connect Group in Winter 2026! Whether you know exactly what kind of group you want to lead or need ideas\, please let us know so we can help you get started! \nLeader Interest Form
URL:https://www.upc.org/event/lead-a-connect-group/
LOCATION:University Presbyterian Church\, 4540 15th Ave NE\, Seattle\, WA\, 98105\, United States
CATEGORIES:Adults
ATTACH;FMTTYPE=image/png:https://www.upc.org/wp-content/uploads/2026/01/2.png
END:VEVENT
BEGIN:VEVENT
DTSTART;TZID=America/Los_Angeles:20260115T080000
DTEND;TZID=America/Los_Angeles:20260125T130000
DTSTAMP:20260421T115928
CREATED:20260420T210513Z
LAST-MODIFIED:20260420T210513Z
UID:10013110-1768464000-1769346000@www.upc.org
SUMMARY:Winter Coat Drive
DESCRIPTION:We are collecting new and clean lightly used men’s Large and XL winter coats\, new hats\, gloves\, scarves and hand-warmers to support Seattle Police Department and Church on the Ave-Friday Feast. Bring donations to the red barrels at UPC entrances. \nContact Barb at barbw@upc.org for more information.
URL:https://www.upc.org/event/winter-coat-drive/2026-01-15/
CATEGORIES:Serve Locally
ATTACH;FMTTYPE=image/png:https://www.upc.org/wp-content/uploads/2026/01/Coat-Drive.png
ORGANIZER;CN="Local Missions":MAILTO:barbw@upc.org
END:VEVENT
BEGIN:VEVENT
DTSTART;TZID=America/Los_Angeles:20260123T150000
DTEND;TZID=America/Los_Angeles:20260125T130000
DTSTAMP:20260421T115928
CREATED:20260420T210513Z
LAST-MODIFIED:20260420T210513Z
UID:10013001-1769180400-1769346000@www.upc.org
SUMMARY:Middle School Winter Camp
DESCRIPTION:Winter Camp is a great opportunity for your middle schooler to be around their peers from across the state who are all thinking through what it means to follow Jesus. \nThey’ll get to worship together\, participate in fun activities such as going to Great Wolf Lodge\, hear from an engaging speaker\, and spend time in cabin groups wrestling with their own faith. \nWe will leave UPC at 3:00 PM on Friday\, Jan 23rd and arrive back around 1:00PM on Sunday\, Jan 25th. We will provide some drivers but may need a parent or two to volunteer each way. \nIf you have any questions or are interested in scholarship code\, please email Anna. \nRegister Here\n(registration deadline is December 17th)
URL:https://www.upc.org/event/middle-school-winter-camp-3/
LOCATION:Black Lake Bible Camp\, 6521 Fairview Rd SW\, Olympia\, 98512\, United States
CATEGORIES:Youth
ATTACH;FMTTYPE=image/png:https://www.upc.org/wp-content/uploads/2025/10/MS-Winter-Camp-2026-Announcement-scaled.png
ORGANIZER;CN="Youth Ministry":MAILTO:annac@upc.org, jillb@upc.org
END:VEVENT
BEGIN:VEVENT
DTSTART;TZID=America/Los_Angeles:20260123T180000
DTEND;TZID=America/Los_Angeles:20260123T210000
DTSTAMP:20260421T115928
CREATED:20260420T210508Z
LAST-MODIFIED:20260420T210508Z
UID:10012827-1769191200-1769202000@www.upc.org
SUMMARY:Global Friends Fridays
DESCRIPTION:Enjoy a meal together\, make friends\, practice English and learn more about Seattle culture in a multi-ethnic community. \nSchedule\n6:00 pm Arrival and Registration\n6:15 pm Dinner (2nd floor – Geneva Hall)\n6:50 pm Music\, then Kid’s dismissal\n7:00 pm Announcements\n7:15 pm Clubs\n8:45 pm Dessert and Parents pick up kids\n9:30 Church building closes \nChildren’s Program\n6:55-8:20 pm Room 300AB (ages 0-4)\n6:55-8:20 pm Room 320 (ages 5-10)\n6:55-8:20 pm Room 315 (11+) \n  \nClubs\nFun & Games\nAll Levels English\nLocation: Room 350-355\nJoin the fun in the Fun & Games club! Play games\, practice English conversation and make friends. Hope you join us!\nContact: Jane \nWhat Do Christians Believe?\nAll English Levels\nLocation: Room 385\nAre you curious? Learn what Christians believe. We will read some short portions of the Bible to learn its overall message. Questions are welcome.\nContact: Richard \nLearning to Lead\nRoom 360-365\nGain confidence leading a Bible study. We’ll learn together.\nContact: Loren \nExploring Seattle\nRoom 390-395\nAll Levels\nThere are so many places to visit in the Seattle area. Learn more about these beautiful locations! Nancy and Ron use slides and pictures to share their top locations and travel tips. Plan your next destination!\nContact: Nancy or Ron \nClub Latino UPC\nAll Spanish Levels\nLocation: library\nJoin our Spanish-language Bible study. Through our club\, you will not only improve your language skills but also grow in your faith\, gaining a deeper understanding of God’s word and its application in your daily life. Whether you’re a language learner or simply looking to enrich your cultural awareness and spiritual growth\, our club offers a supportive and engaging environment to achieve your goals.\nContact: Rafael \nCosmos Toastmasters Club\nAdvanced English\nLocation: Room 340-345\nToastmasters is a public speaking club. Toastmasters provides a supportive and positive learning experience in which members are empowered to develop communication and leadership skills\, resulting in greater self-confidence and personal growth.\nContact: Alex
URL:https://www.upc.org/event/global-friends-fridays/2026-01-23/
LOCATION:Geneva Hall\, 4540 15th Ave NE\, Seattle\, WA\, 98105\, United States
CATEGORIES:Internationals
ATTACH;FMTTYPE=image/png:https://www.upc.org/wp-content/uploads/2025/09/Global-Friends.png
ORGANIZER;CN="Global Friends":MAILTO:viviennel@upc.org
END:VEVENT
END:VCALENDAR