BEGIN:VCALENDAR
VERSION:2.0
PRODID:-//University Presbyterian Church - ECPv6.15.20//NONSGML v1.0//EN
CALSCALE:GREGORIAN
METHOD:PUBLISH
X-WR-CALNAME:University Presbyterian Church
X-ORIGINAL-URL:https://www.upc.org
X-WR-CALDESC:Events for University Presbyterian Church
REFRESH-INTERVAL;VALUE=DURATION:PT1H
X-Robots-Tag:noindex
X-PUBLISHED-TTL:PT1H
BEGIN:VTIMEZONE
TZID:America/Los_Angeles
BEGIN:DAYLIGHT
TZOFFSETFROM:-0800
TZOFFSETTO:-0700
TZNAME:PDT
DTSTART:20230312T100000
END:DAYLIGHT
BEGIN:STANDARD
TZOFFSETFROM:-0700
TZOFFSETTO:-0800
TZNAME:PST
DTSTART:20231105T090000
END:STANDARD
BEGIN:DAYLIGHT
TZOFFSETFROM:-0800
TZOFFSETTO:-0700
TZNAME:PDT
DTSTART:20240310T100000
END:DAYLIGHT
BEGIN:STANDARD
TZOFFSETFROM:-0700
TZOFFSETTO:-0800
TZNAME:PST
DTSTART:20241103T090000
END:STANDARD
BEGIN:DAYLIGHT
TZOFFSETFROM:-0800
TZOFFSETTO:-0700
TZNAME:PDT
DTSTART:20250309T100000
END:DAYLIGHT
BEGIN:STANDARD
TZOFFSETFROM:-0700
TZOFFSETTO:-0800
TZNAME:PST
DTSTART:20251102T090000
END:STANDARD
END:VTIMEZONE
BEGIN:VEVENT
DTSTART;TZID=America/Los_Angeles:20241210T190000
DTEND;TZID=America/Los_Angeles:20241210T203000
DTSTAMP:20260419T073207
CREATED:20240822T152356Z
LAST-MODIFIED:20250630T191611Z
UID:10002974-1733857200-1733862600@www.upc.org
SUMMARY:The Bridge | Young Adult Gathering
DESCRIPTION:The Bridge is UPC’s young adult community (22-30). Join us for dinner\, worship & prayer\, a message\, and plenty of fellowship! Tuesday nights at 7 in the Palmer House! \nQuestions? Reach out to Polly.
URL:https://www.upc.org/event/the-bridge-20s-to-early-30s-2-2-4-3-2/2024-12-10/
LOCATION:Palmer House\, 4705 16th Ave NE\, Seattle\, WA\, 98105
CATEGORIES:Young Adults
ATTACH;FMTTYPE=image/jpeg:https://www.upc.org/wp-content/uploads/2022/09/image-20220723-034953-15ce9988-scaled-e1663807363833.jpeg
ORGANIZER;CN="Young Adults":MAILTO:youngadults@upc.org
END:VEVENT
END:VCALENDAR